Workbook

Sheet Титульний лист 
E1: Звітність
B3: Звіт місцевих загальних судів про розгляд судових справ
C6: перше півріччя 2019 року
E7: (період)
B12: Подають | E12: Терміни подання | G12: Форма № 1 мзс
G13: (квартальна)
B14: місцеві загальні суди – територіальному управлінню Державної судової адміністрації України | E14: до 5 числа після звітного періоду
G15: ЗАТВЕРДЖЕНО
F16: Наказ Державної судової адміністрації України
B17: територіальні управління Державної судової | E17: до 10 числа після звітного періоду | F17: від 09.03.2017 № 311
B18: адміністрації Укрїни – Державній судовій
B19: адміністрації України
B31: Респондент:
B33: Найменування: | D33: Державна судова адміністрація України
B35: Місцезнаходження: | D35: 01601.м. Київ.вул. Липська 18/5
B38: (поштовий індекс, область /АР Крим, район, населений пункт, вулиця /провулок, площа тощо)
B41: (№ будинку /корпусу, № квартири /офісу)

Sheet розділ 1 
A1: Розділ 1. Загальні показники здійснення судочинства судом першої інстанції
A2: Найменування показника | D2: № рядка | E2: Перебувало в провадженні справ і матеріалів | H2: Розглянуто справ і матеріалів | J2: Залишок нерозглянутих справ і матеріалів на кінець звітного періоду
E3: усього | F3: у тому числі
F4: надійшло у звітному періоді | G4: з них після скасування судового рішення судом апеля-ційної чи касаційної інстанції (з гр.2) | H4: усього | I4: у т.ч. задоволено | J4: усього | K4: в т. ч. не розгля-нутих понад 1 рік
A5: А | D5: В | E5: 1 | F5: 2 | G5: 3 | H5: 4 | I5: 5 | J5: 6 | K5: 7
A6: кримінальне судочинство | B6: Справи кримінального провадження | D6: 1 | E6: 143685 | F6: 63425 | G6: 1505 | H6: 51475 | I6: x | J6: 92210 | K6: 28872 | L6: =E6-F6 -> 80260
B7: Клопотання, скарги, заяви під час досудового розслідування (слідчі судді) | D7: 2 | E7: 594792 | F7: 569039 | G7: 827 | H7: 545104 | I7: 464118 | J7: 49688 | L7: =E7-F7 -> 25753
B8: Справи в порядку надання міжнародної правової допомоги | D8: 3 | E8: 883 | F8: 756 | G8: 8 | H8: 650 | I8: 501 | J8: 233 | L8: =E8-F8 -> 127
B9: Справи в порядку виконання судових рішень | D9: 4 | E9: 56294 | F9: 45865 | G9: 217 | H9: 43190 | I9: 29166 | J9: 13104 | L9: =E9-F9 -> 10429
B10: Справи про перегляд судового рішення за нововиявленими або виключними обставинами | D10: 5 | E10: 1191 | F10: 793 | G10: 96 | H10: 664 | I10: 51 | J10: 527 | L10: =E10-F10 -> 398
B11: Заяви про відновлення втрачених матеріалів кримінального провадження | D11: 6 | E11: 28 | F11: 18 | G11: 1 | H11: 14 | I11: 5 | J11: 14 | L11: =E11-F11 -> 10
B12: Заяви про відвід судді (слідчого судді) | D12: 7 | E12: 7174 | F12: 6783 | G12: 6 | H12: 6406 | I12: 3539 | J12: 768
B13: Кримінальні справи, матеріали (КПК 1960 р.) | D13: 8 | E13: 1886 | F13: 128 | G13: 35 | H13: 183 | I13: 74 | J13: 1703 | K13: 587 | L13: =E13-F13 -> 1758
B14: Інші (не зазначені в рядках 1-8) | D14: 9 | E14: 1446 | F14: 1205 | G14: 19 | H14: 1072 | I14: 541 | J14: 374 | L14: =E14-F14 -> 241
B15: УСЬОГО | D15: 10 | E15: =SUM(E6:E14) -> 807379 | F15: =SUM(F6:F14) -> 688012 | G15: =SUM(G6:G14) -> 2714 | H15: =SUM(H6:H14) -> 648758 | I15: =SUM(I6:I14) -> 497995 | J15: =SUM(J6:J14) -> 158621 | K15: =SUM(K6:K14) -> 29459 | L15: =E15-F15 -> 119367
A16: адміністративне судочинство | B16: Позовні заяви | D16: 11 | E16: 28007 | F16: 25263 | G16: 139 | H16: 23455 | I16: 18587 | J16: 4552 | K16: 643 | L16: =E16-F16 -> 2744
C17: Справи | D17: 12 | E17: 29267 | F17: 18926 | G17: 329 | H17: 19722 | I17: 14366 | J17: 9545 | K17: 2175 | L17: =E17-F17 -> 10341
B18: Заяви про забезпечення доказів, позову до подання позовної заяви | D18: 13 | E18: 60 | F18: 45 | H18: 39 | I18: 14 | J18: 21 | K18: 9 | L18: =E18-F18 -> 15
B19: Справи в порядку виконання судових рішень | D19: 14 | E19: 6228 | F19: 5137 | G19: 5 | H19: 5222 | I19: 4335 | J19: 1006 | K19: 136 | L19: =E19-F19 -> 1091
B20: Справи про перегляд судового рішення за нововиявленими або виключними обставинами | D20: 15 | E20: 128 | F20: 56 | G20: 2 | H20: 61 | I20: 2 | J20: 67 | K20: 20 | L20: =E20-F20 -> 72
B21: Заяви про відновлення втраченого судового провадження | D21: 16 | E21: 38 | F21: 25 | H21: 22 | I21: 16 | J21: 16 | K21: 6 | L21: =E21-F21 -> 13
B22: Заяви про відвід судді (слідчого судді) | D22: 17 | E22: 86 | F22: 79 | H22: 72 | I22: 8 | J22: 14 | K22: 4
B23: Доручення судів України/іноземних судів | D23: 18 | E23: 87 | F23: 83 | H23: 72 | I23: 60 | J23: 15 | L23: =E23-F23 -> 4
B24: УСЬОГО | D24: 19 | E24: 45246 | F24: 31877 | G24: 397 | H24: 30057 | I24: 18836 | J24: 15189 | K24: 2990 | L24: =E24-F24 -> 13369
A25: цивільне судочинство | B25: Заяви про видачу/скасування судового наказу | D25: 20 | E25: 85799 | F25: 75580 | G25: 87 | H25: 72165 | I25: 57581 | J25: 13634 | K25: 289 | L25: =E25-F25 -> 10219
B26: Заяви про забезпечення доказів, позову до подання позовної заяви | D26: 21 | E26: 1860 | F26: 1761 | G26: 12 | H26: 1633 | I26: 706 | J26: 227 | K26: 23 | L26: =E26-F26 -> 99
B27: Позовні заяви | D27: 22 | E27: 318309 | F27: 271371 | G27: 1001 | H27: 256382 | I27: 225583 | J27: 61927 | K27: 2735 | L27: =E27-F27 -> 46938
C28: Справи позовного провадження | D28: 23 | E28: 439483 | F28: 232036 | G28: 4076 | H28: 246840 | I28: 199590 | J28: 192643 | K28: 30909 | L28: =E28-F28 -> 207447
B29: Заяви окремого провадження | D29: 24 | E29: 48532 | F29: 46326 | G29: 101 | H29: 45183 | I29: 40395 | J29: 3349 | K29: 165 | L29: =E29-F29 -> 2206
C30: Справи окремого провадження | D30: 25 | E30: 50298 | F30: 40521 | G30: 140 | H30: 40280 | I30: 37474 | J30: 10018 | K30: 556 | L30: =E30-F30 -> 9777
B31: Заяви про перегляд заочного рішення | D31: 26 | E31: 8216 | F31: 5681 | G31: 62 | H31: 5483 | I31: 2512 | J31: 2733 | K31: 338 | L31: =E31-F31 -> 2535
B32: Заяви про перегляд рішень, ухвал суду чи судових наказів у зв’язку з нововиявленими або виключними обставинами | D32: 27 | E32: 1415 | F32: 769 | G32: 43 | H32: 747 | I32: 115 | J32: 668 | K32: 207 | L32: =E32-F32 -> 646
B33: Заяви про відновлення втраченого судового провадження | D33: 28 | E33: 928 | F33: 661 | G33: 12 | H33: 617 | I33: 237 | J33: 311 | K33: 22 | L33: =E33-F33 -> 267
B34: Заяви про відвід судді (слідчого судді) | D34: 29 | E34: 2034 | F34: 1914 | G34: 2 | H34: 1785 | I34: 100 | J34: 249 | K34: 38
B35: Скарги на дії або бездіяльність виконавчої служби | D35: 30 | E35: 8216 | F35: 4764 | G35: 118 | H35: 4614 | I35: 1661 | J35: 3602 | K35: 858 | L35: =E35-F35 -> 3452
B36: Клопотання, заяви, подання у порядку виконання судових рішень та рішень інших органів (посадових осіб) | D36: 31 | E36: 43405 | F36: 35947 | G36: 157 | H36: 32581 | I36: 22294 | J36: 10824 | K36: 1133 | L36: =E36-F36 -> 7458
B37: Клопотання про визнання та звернення до виконання рішення іноземного суду, що підлягає примусовому виконанню / що не підлягає примусовому виконанню | D37: 32 | E37: 435 | F37: 272 | G37: 8 | H37: 220 | I37: 121 | J37: 215 | K37: 40 | L37: =E37-F37 -> 163
B38: Доручення судів України / іноземних судів | D38: 33 | E38: 2506 | F38: 1992 | G38: 5 | H38: 1724 | I38: 988 | J38: 782 | K38: 70 | L38: =E38-F38 -> 514
B39: Заяви про скасування рішення третейського суду, про видачу виконавчого листа про примусове виконання рішення третейського суду | D39: 34 | E39: 149 | F39: 75 | G39: 3 | H39: 68 | I39: 44 | J39: 81 | K39: 44 | L39: =E39-F39 -> 74
B40: УСЬОГО | D40: 35 | E40: 743192 | F40: 485064 | G40: 5184 | H40: 443696 | I40: 323447 | J40: 299496 | K40: 37380 | L40: =E40-F40 -> 258128
...

Sheet розділ 2
A1: Розділ 2. Оперативність розгляду справ
A2: Найменування показника | F2: № рядка | G2: Кількість
A3: кримінальне судочинство | B3: Кількість справ, в яких зупинено провадження | F3: 1 | G3: 9412
C4: у тому числі у зв'язку з розшуком | F4: 2 | G4: 8506
B5: Кількість справ, в яких провадження на кінець звітного періоду не зупинено | F5: 3 | G5: 84416
B6: з них | C6: не призначено до підготовчого провадження понад 5 діб | F6: 4 | G6: 3303
C7: не розглядаються більше 10 діб з дня постановлення ухвали про призначення судового розгляду | F7: 5 | G7: 4082
C8: не розглянуто в строк | D8: понад 6 місяців до 1 року | F8: 6 | G8: 17171
D9: понад 1 рік до 2 років | F9: 7 | G9: 17697
D10: понад 2 роки | F10: 8 | G10: 11801
B11: Загальна кількість нерозглянутих матеріалів кримінального провадження, за якими особи тримаються під вартою і рахуються за судами понад 6 місяців | E11: матеріалів | F11: 9 | G11: 5463
E12: осіб | F12: 10 | G12: 6950
B13: Причини відкладення розгляду | C13: Нездійснення доставки до суду обвинуваченого, який тримається під вартою | F13: 11 | G13: 5336
C14: Неприбуття обвинуваченого | F14: 12 | G14: 41595
C15: Хвороба обвинуваченого | F15: 13 | G15: 753
C16: Неприбуття прокурора | F16: 14 | G16: 1910
C17: Неприбуття захисника | F17: 15 | G17: 6992
C18: Неприбуття свідків, потерпілих | F18: 16 | G18: 18678
C19: Неприбуття інших учасників кримінального провадження | F19: 17 | G19: 3635
C20: Інші підстави | F20: 18 | G20: 128442
B21: Заходи, вжиті судами для підвищення оперативності розгляду | C21: Застосовано судом привід обвинуваченого | F21: 19 | G21: 10290
C22: з них кількість матеріалів, у яких не виконано привід | F22: 20 | G22: 6063
C23: Застосовано судом привід свідка | F23: 21 | G23: 2977
C24: з них кількість матеріалів, у яких не виконано привід | F24: 22 | G24: 1608
C25: Накладено грошове стягнення (осіб) | F25: 23 | G25: 421
C26: Змінено обвинуваченому запобіжний захід на взяття під варту | F26: 24 | G26: 88
C27: Вжито інших заходів | F27: 25 | G27: 8
A28: адміністративне судочинство | B28: Справи, у яких відкладено розгляд та не закінчено провадження на кінець звітного періоду (усього): | F28: 26 | G28: 2282
B29: у зв'язку з неявкою | C29: одного з учасників процесу, що беруть участь у справі | F29: 27 | G29: 436
C30: через | D30: невручення судових повісток | F30: 28 | G30: 76
D31: інші підстави | F31: 29 | G31: 360
C32: прокурора | F32: 30
C33: інших учасників процесу | F33: 31 | G33: 16
B34: з них у строк | C34: понад 6 місяців до 1 року | F34: 32 | G34: 354
C35: понад 1 рік до 2 років | F35: 33 | G35: 280
C36: понад 2 роки | F36: 34 | G36: 217
B37: Кількість постановлених ухвал щодо застосування заходів процесуального примусу | F37: 35 | G37: =SUM(G38:G42) -> 5
B38: у тому числі у вигляді | C38: попередження | F38: 36
C39: видалення із залу засідання | F39: 37 | G39: 1
C40: тимчасового вилучення доказів для дослідження судом | F40: 38
...

Sheet розділ 3
A1: Розділ 3. Розгляд судових справ і матеріалів
A2: Найменування показника | H2: № рядка | I2: Кількість
A3: кримінальне судочинство | B3: Розглянуто кримінальних проваджень, усього | H3: 1 | I3: 51603
B4: у тому числі | C4: з постановленням вироку | H4: 2 | I4: 37818
C5: з них із затвердженням угоди | H5: 3 | I5: 8435
C6: відмовлено в затвердженні угоди і повернено прокурору для продовження досудового розслідування | H6: 4 | I6: 158
C7: закрито кримінальне провадження | H7: 5 | I7: 11155
C8: повернуто прокурору | H8: 6 | I8: 955
C9: направлено для визначення підсудності | H9: 7 | I9: 937
B10: Справи, у яких судом обрано запобіжний захід тримання під вартою | H10: 8 | I10: 369
B11: Звільнено з-під варти осіб | H11: 9 | I11: 466
B12: Взято під варту осіб | H12: 10 | I12: 536
B13: Особи, звільнені судом під заставу | H13: 11 | I13: 49
B14: Сума внесеної застави, грн | H14: 12 | I14: 2913842
B15: Сума застави, зверненої на користь держави, грн | H15: 13 | I15: 17620
B16: Особи до яких застосовано спеціальну конфіскацію | H16: 14 | I16: 281
B17: Кількість кримінальних проваджень, у яких здійснювалося спеціальне судове провадження | H17: 15 | I17: 1
B18: Постановлено ухвал про надання судових доручень | H18: 16 | I18: 150
B19: Справи, судове провадження в яких здійснювалось у режимі відеоконференції | H19: 17 | I19: 7254
B20: Справи, розглянуті із фіксуванням судового процесу технічними засобами | H20: 18 | I20: 181252
B21: Справи, що надійшли з інших судів та після скасування судового рішення | H21: 19 | I21: 8466
... B24: Кількість судових рішень щодо розгляду питань про: виправлення описок і очевидних арифметичних помилок у судовому рішенні; роз'яснення судового рішення | H24: 22 | I24: 2516
A25: адміністративне судочинство | B25: Розглянуто справ | D25: під час підготовчого провадження | H25: 23 | I25: 269
D26: у порядку письмового провадження | H26: 24 | I26: 3614
D27: у скороченому провадженні | H27: 25 | I27: 7601
B28: Суб'єкти звернення | D28: фізичні особи | H28: 26 | I28: 42178
D29: юридичні особи | H29: 27 | I29: 3068
D30: у т.ч. суб'єкти владних повноважень | H30: 28 | I30: 337
B31: Розмір грошових коштів, грн. | D31: пред'явлено до стягнення (заявлено позовних вимог) | H31: 29 | I31: 4800652
D32: присуджено до стягнення (задоволено позовних вимог) | H32: 30 | I32: 144635
B33: Постановлено окремих ухвал | H33: 31 | I33: 6
B34: Справи, судове провадження в яких здійснювалось у режимі відеоконференції | H34: 32 | I34: 355
B35: Справи, розглянуті із фіксуванням судового процесу технічними засобами | H35: 33 | I35: 6236
B36: Кількість судових рішень щодо розгляду питань про: виправлення описок і очевидних арифметичних помилок у судовому рішенні; роз'яснення судового рішення; ухвалення додаткового судового рішення | H36: 34 | I36: 1184
A37: цивільне судочинство | B37: Розглянуто справ з ухваленням заочного рішення | H37: 35 | I37: 79957
B38: Суб'єкти звернення | D38: фізичні особи | H38: 36 | I38: 465544
D39: юридичні особи | H39: 37 | I39: 277648
D40: у т.ч. державні органи | H40: 38 | I40: 5241
B41: Розмір грошових коштів, грн. | D41: пред'явлено до стягнення (заявлено позовних вимог) | H41: 39 | I41: 147857474918
D42: присуджено до стягнення (задоволено позовних вимог) | H42: 40 | I42: 5559404424
...

Sheet розділ 4
A1: Розділ 4. Результативні показники розгляду справ
A2: Найменування показника | C2: № рядка | D2: Кількість
A3: Відсоток справ та матеріалів, загальний термін проходження яких триває понад один рік, % | C3: 1 | D3: =IF('розділ 1 '!J46<>0,'розділ 1 '!K46*100/'розділ 1 '!J46,0) -> 13.136344
A4: у тому числі | B4: кримінального судочинства, % | C4: 2 | D4: =IF('розділ 1 '!J15<>0,'розділ 1 '!K15*100/'розділ 1 '!J15,0) -> 18.571942
B5: адміністративного судочинства, % | C5: 3 | D5: =IF('розділ 1 '!J24<>0,'розділ 1 '!K24*100/'розділ 1 '!J24,0) -> 19.685299
B6: цивільного судочинства, % | C6: 4 | D6: =IF('розділ 1 '!J40<>0,'розділ 1 '!K40*100/'розділ 1 '!J40,0) -> 12.480968
B7: про адміністративні правопорушення, % | C7: 5 | D7: =IF('розділ 1 '!J45<>0,'розділ 1 '!K45*100/'розділ 1 '!J45,0) -> 3.5679014
A8: Відсоток розгляду справ, % | C8: 6 | D8: =IF('розділ 1 '!F46<>0,'розділ 1 '!H46*100/'розділ 1 '!F46,0) -> 93.058403
A9: Середня кількість розглянутих справ на одного суддю | C9: 7 | D9: =IF('розділ 3'!I50<>0,'розділ 1 '!H46/'розділ 3'!I50,0) -> 563.18523
A10: Середня кількість справ та матеріалів, що перебували на розгляді в звітний період в розрахунку на одного суддю | C10: 8 | D10: =IF('розділ 3'!I50<>0,'розділ 1 '!E46/'розділ 3'!I50,0) -> 772.76742
A11: Середня тривалість розгляду справи (днів) | C11: 9 | D11: 44.543159
A12: кримінального судочинства | C12: 10 | D12: 22.882107
A13: адміністративного судочинства | C13: 11 | D13: 70.935623
A14: цивільного судочинства | C14: 12 | D14: 91.707753
A15: про адміністративні правопорушення | C15: 13 | D15: 22.13047
A18: Керівник: | C18: Поліщук А.П.
B19: (підпис) | C19: (П.І.Б.)
A21: Виконавець: | C21: Л. Усачова
B22: (підпис) | C22: (П.І.Б.)
A23: Телефон: | C23: 2777663
A24: Факс:
A25: Електронна пошта: | C25: usachova@court.gov.ua
C27: 16 липня 2019 року
